BEGIN:VCALENDAR
VERSION:2.0
PRODID:-//The Jetty Restaurant and Dock Bar | Kent Narrows MD - ECPv6.15.17.1//NONSGML v1.0//EN
CALSCALE:GREGORIAN
METHOD:PUBLISH
X-WR-CALNAME:The Jetty Restaurant and Dock Bar | Kent Narrows MD
X-ORIGINAL-URL:https://jettydockbar.com
X-WR-CALDESC:Events for The Jetty Restaurant and Dock Bar | Kent Narrows MD
REFRESH-INTERVAL;VALUE=DURATION:PT1H
X-Robots-Tag:noindex
X-PUBLISHED-TTL:PT1H
BEGIN:VTIMEZONE
TZID:America/New_York
BEGIN:DAYLIGHT
TZOFFSETFROM:-0500
TZOFFSETTO:-0400
TZNAME:EDT
DTSTART:20250309T070000
END:DAYLIGHT
BEGIN:STANDARD
TZOFFSETFROM:-0400
TZOFFSETTO:-0500
TZNAME:EST
DTSTART:20251102T060000
END:STANDARD
BEGIN:DAYLIGHT
TZOFFSETFROM:-0500
TZOFFSETTO:-0400
TZNAME:EDT
DTSTART:20260308T070000
END:DAYLIGHT
BEGIN:STANDARD
TZOFFSETFROM:-0400
TZOFFSETTO:-0500
TZNAME:EST
DTSTART:20261101T060000
END:STANDARD
BEGIN:DAYLIGHT
TZOFFSETFROM:-0500
TZOFFSETTO:-0400
TZNAME:EDT
DTSTART:20270314T070000
END:DAYLIGHT
BEGIN:STANDARD
TZOFFSETFROM:-0400
TZOFFSETTO:-0500
TZNAME:EST
DTSTART:20271107T060000
END:STANDARD
END:VTIMEZONE
BEGIN:VEVENT
DTSTART;TZID=America/New_York:20260523T150000
DTEND;TZID=America/New_York:20260523T190000
DTSTAMP:20260420T203623
CREATED:20260420T165348Z
LAST-MODIFIED:20260420T165348Z
UID:10005271-1779548400-1779562800@jettydockbar.com
SUMMARY:Oracle
DESCRIPTION:
URL:https://jettydockbar.com/events/
LOCATION:The Jetty\, 201 Wells Cove Road\, Grasonville\, MD\, 21638\, United States
END:VEVENT
BEGIN:VEVENT
DTSTART;TZID=America/New_York:20260522T203000
DTEND;TZID=America/New_York:20260523T003000
DTSTAMP:20260420T203623
CREATED:20260420T165316Z
LAST-MODIFIED:20260420T165316Z
UID:10005270-1779481800-1779496200@jettydockbar.com
SUMMARY:Doc Marten and the Flannels
DESCRIPTION:
URL:https://jettydockbar.com/events/
LOCATION:The Jetty\, 201 Wells Cove Road\, Grasonville\, MD\, 21638\, United States
END:VEVENT
BEGIN:VEVENT
DTSTART;TZID=America/New_York:20260521T190000
DTEND;TZID=America/New_York:20260521T230000
DTSTAMP:20260420T203623
CREATED:20231101T141322Z
LAST-MODIFIED:20251029T162557Z
UID:10004616-1779390000-1779404400@jettydockbar.com
SUMMARY:Music Bingo  & DJ with DJ Juice
DESCRIPTION:
URL:https://jettydockbar.com/events/
LOCATION:The Jetty\, 201 Wells Cove Road\, Grasonville\, MD\, 21638\, United States
END:VEVENT
BEGIN:VEVENT
DTSTART;TZID=America/New_York:20260520T190000
DTEND;TZID=America/New_York:20260520T230000
DTSTAMP:20260420T203623
CREATED:20260112T223504Z
LAST-MODIFIED:20260112T223504Z
UID:10004945-1779303600-1779318000@jettydockbar.com
SUMMARY:Karaoke Night
DESCRIPTION:
URL:https://jettydockbar.com/events/
LOCATION:The Jetty\, 201 Wells Cove Road\, Grasonville\, MD\, 21638\, United States
END:VEVENT
BEGIN:VEVENT
DTSTART;TZID=America/New_York:20260519T183000
DTEND;TZID=America/New_York:20260519T223000
DTSTAMP:20260420T203623
CREATED:20230522T165604Z
LAST-MODIFIED:20230522T172732Z
UID:10000960-1779215400-1779229800@jettydockbar.com
SUMMARY:Bingo / Acoustic Duo
DESCRIPTION:
URL:https://jettydockbar.com/events/
LOCATION:The Jetty\, 201 Wells Cove Road\, Grasonville\, MD\, 21638\, United States
END:VEVENT
BEGIN:VEVENT
DTSTART;TZID=America/New_York:20260518T190000
DTEND;TZID=America/New_York:20260518T210000
DTSTAMP:20260420T203623
CREATED:20230522T165500Z
LAST-MODIFIED:20250506T172735Z
UID:10003603-1779130800-1779138000@jettydockbar.com
SUMMARY:Charm City Trivia
DESCRIPTION:
URL:https://jettydockbar.com/events/
LOCATION:The Jetty\, 201 Wells Cove Road\, Grasonville\, MD\, 21638\, United States
END:VEVENT
BEGIN:VEVENT
DTSTART;TZID=America/New_York:20260517T190000
DTEND;TZID=America/New_York:20260517T230000
DTSTAMP:20260420T203623
CREATED:20260420T165842Z
LAST-MODIFIED:20260420T165842Z
UID:10005280-1779044400-1779058800@jettydockbar.com
SUMMARY:Pineapple Band
DESCRIPTION:
URL:https://jettydockbar.com/events/
LOCATION:The Jetty\, 201 Wells Cove Road\, Grasonville\, MD\, 21638\, United States
END:VEVENT
BEGIN:VEVENT
DTSTART;TZID=America/New_York:20260517T140000
DTEND;TZID=America/New_York:20260517T180000
DTSTAMP:20260420T203623
CREATED:20260420T165807Z
LAST-MODIFIED:20260420T165807Z
UID:10005279-1779026400-1779040800@jettydockbar.com
SUMMARY:The Chucks
DESCRIPTION:
URL:https://jettydockbar.com/events/
LOCATION:The Jetty\, 201 Wells Cove Road\, Grasonville\, MD\, 21638\, United States
END:VEVENT
BEGIN:VEVENT
DTSTART;TZID=America/New_York:20260516T203000
DTEND;TZID=America/New_York:20260517T003000
DTSTAMP:20260420T203623
CREATED:20260420T165242Z
LAST-MODIFIED:20260420T165242Z
UID:10005269-1778963400-1778977800@jettydockbar.com
SUMMARY:Starcrush
DESCRIPTION:
URL:https://jettydockbar.com/events/
LOCATION:The Jetty\, 201 Wells Cove Road\, Grasonville\, MD\, 21638\, United States
END:VEVENT
BEGIN:VEVENT
DTSTART;TZID=America/New_York:20260516T150000
DTEND;TZID=America/New_York:20260516T190000
DTSTAMP:20260420T203623
CREATED:20260420T165158Z
LAST-MODIFIED:20260420T165158Z
UID:10005268-1778943600-1778958000@jettydockbar.com
SUMMARY:50 Bucks for Betty
DESCRIPTION:
URL:https://jettydockbar.com/events/
LOCATION:The Jetty\, 201 Wells Cove Road\, Grasonville\, MD\, 21638\, United States
END:VEVENT
BEGIN:VEVENT
DTSTART;TZID=America/New_York:20260515T203000
DTEND;TZID=America/New_York:20260516T003000
DTSTAMP:20260420T203623
CREATED:20260420T165048Z
LAST-MODIFIED:20260420T165129Z
UID:10005267-1778877000-1778891400@jettydockbar.com
SUMMARY:Social Drinking
DESCRIPTION:
URL:https://jettydockbar.com/events/
LOCATION:The Jetty\, 201 Wells Cove Road\, Grasonville\, MD\, 21638\, United States
END:VEVENT
BEGIN:VEVENT
DTSTART;TZID=America/New_York:20260514T190000
DTEND;TZID=America/New_York:20260514T230000
DTSTAMP:20260420T203623
CREATED:20231101T141322Z
LAST-MODIFIED:20251029T162557Z
UID:10004615-1778785200-1778799600@jettydockbar.com
SUMMARY:Music Bingo  & DJ with DJ Juice
DESCRIPTION:
URL:https://jettydockbar.com/events/
LOCATION:The Jetty\, 201 Wells Cove Road\, Grasonville\, MD\, 21638\, United States
END:VEVENT
BEGIN:VEVENT
DTSTART;TZID=America/New_York:20260513T190000
DTEND;TZID=America/New_York:20260513T230000
DTSTAMP:20260420T203623
CREATED:20260112T223504Z
LAST-MODIFIED:20260112T223504Z
UID:10004944-1778698800-1778713200@jettydockbar.com
SUMMARY:Karaoke Night
DESCRIPTION:
URL:https://jettydockbar.com/events/
LOCATION:The Jetty\, 201 Wells Cove Road\, Grasonville\, MD\, 21638\, United States
END:VEVENT
BEGIN:VEVENT
DTSTART;TZID=America/New_York:20260512T183000
DTEND;TZID=America/New_York:20260512T223000
DTSTAMP:20260420T203623
CREATED:20230522T165604Z
LAST-MODIFIED:20230522T172732Z
UID:10000959-1778610600-1778625000@jettydockbar.com
SUMMARY:Bingo / Acoustic Duo
DESCRIPTION:
URL:https://jettydockbar.com/events/
LOCATION:The Jetty\, 201 Wells Cove Road\, Grasonville\, MD\, 21638\, United States
END:VEVENT
BEGIN:VEVENT
DTSTART;TZID=America/New_York:20260511T190000
DTEND;TZID=America/New_York:20260511T210000
DTSTAMP:20260420T203623
CREATED:20230522T165500Z
LAST-MODIFIED:20250506T172735Z
UID:10003602-1778526000-1778533200@jettydockbar.com
SUMMARY:Charm City Trivia
DESCRIPTION:
URL:https://jettydockbar.com/events/
LOCATION:The Jetty\, 201 Wells Cove Road\, Grasonville\, MD\, 21638\, United States
END:VEVENT
BEGIN:VEVENT
DTSTART;TZID=America/New_York:20260510T150000
DTEND;TZID=America/New_York:20260510T190000
DTSTAMP:20260420T203623
CREATED:20260420T165741Z
LAST-MODIFIED:20260420T165741Z
UID:10005278-1778425200-1778439600@jettydockbar.com
SUMMARY:Johnny Seaton and the Bad Behavior Band
DESCRIPTION:
URL:https://jettydockbar.com/events/
LOCATION:The Jetty\, 201 Wells Cove Road\, Grasonville\, MD\, 21638\, United States
END:VEVENT
BEGIN:VEVENT
DTSTART;TZID=America/New_York:20260509T203000
DTEND;TZID=America/New_York:20260510T003000
DTSTAMP:20260420T203623
CREATED:20260420T164929Z
LAST-MODIFIED:20260420T164929Z
UID:10005266-1778358600-1778373000@jettydockbar.com
SUMMARY:Jexxa
DESCRIPTION:
URL:https://jettydockbar.com/events/
LOCATION:The Jetty\, 201 Wells Cove Road\, Grasonville\, MD\, 21638\, United States
END:VEVENT
BEGIN:VEVENT
DTSTART;TZID=America/New_York:20260509T150000
DTEND;TZID=America/New_York:20260509T190000
DTSTAMP:20260420T203623
CREATED:20260420T164823Z
LAST-MODIFIED:20260420T164823Z
UID:10005265-1778338800-1778353200@jettydockbar.com
SUMMARY:Kayne Twitty
DESCRIPTION:
URL:https://jettydockbar.com/events/
LOCATION:The Jetty\, 201 Wells Cove Road\, Grasonville\, MD\, 21638\, United States
END:VEVENT
BEGIN:VEVENT
DTSTART;TZID=America/New_York:20260508T203000
DTEND;TZID=America/New_York:20260509T003000
DTSTAMP:20260420T203623
CREATED:20260420T164706Z
LAST-MODIFIED:20260420T164714Z
UID:10005264-1778272200-1778286600@jettydockbar.com
SUMMARY:Kristen and the Noise
DESCRIPTION:
URL:https://jettydockbar.com/events/
LOCATION:The Jetty\, 201 Wells Cove Road\, Grasonville\, MD\, 21638\, United States
END:VEVENT
BEGIN:VEVENT
DTSTART;TZID=America/New_York:20260507T190000
DTEND;TZID=America/New_York:20260507T230000
DTSTAMP:20260420T203623
CREATED:20231101T141322Z
LAST-MODIFIED:20251029T162557Z
UID:10004614-1778180400-1778194800@jettydockbar.com
SUMMARY:Music Bingo  & DJ with DJ Juice
DESCRIPTION:
URL:https://jettydockbar.com/events/
LOCATION:The Jetty\, 201 Wells Cove Road\, Grasonville\, MD\, 21638\, United States
END:VEVENT
BEGIN:VEVENT
DTSTART;TZID=America/New_York:20260506T190000
DTEND;TZID=America/New_York:20260506T230000
DTSTAMP:20260420T203623
CREATED:20260112T223504Z
LAST-MODIFIED:20260112T223504Z
UID:10004943-1778094000-1778108400@jettydockbar.com
SUMMARY:Karaoke Night
DESCRIPTION:
URL:https://jettydockbar.com/events/
LOCATION:The Jetty\, 201 Wells Cove Road\, Grasonville\, MD\, 21638\, United States
END:VEVENT
BEGIN:VEVENT
DTSTART;TZID=America/New_York:20260505T183000
DTEND;TZID=America/New_York:20260505T223000
DTSTAMP:20260420T203623
CREATED:20230522T165604Z
LAST-MODIFIED:20230522T172732Z
UID:10000958-1778005800-1778020200@jettydockbar.com
SUMMARY:Bingo / Acoustic Duo
DESCRIPTION:
URL:https://jettydockbar.com/events/
LOCATION:The Jetty\, 201 Wells Cove Road\, Grasonville\, MD\, 21638\, United States
END:VEVENT
BEGIN:VEVENT
DTSTART;TZID=America/New_York:20260504T190000
DTEND;TZID=America/New_York:20260504T210000
DTSTAMP:20260420T203623
CREATED:20230522T165500Z
LAST-MODIFIED:20250506T172735Z
UID:10003601-1777921200-1777928400@jettydockbar.com
SUMMARY:Charm City Trivia
DESCRIPTION:
URL:https://jettydockbar.com/events/
LOCATION:The Jetty\, 201 Wells Cove Road\, Grasonville\, MD\, 21638\, United States
END:VEVENT
BEGIN:VEVENT
DTSTART;TZID=America/New_York:20260503T190000
DTEND;TZID=America/New_York:20260503T230000
DTSTAMP:20260420T203623
CREATED:20260420T165702Z
LAST-MODIFIED:20260420T165702Z
UID:10005277-1777834800-1777849200@jettydockbar.com
SUMMARY:The Cover Up
DESCRIPTION:
URL:https://jettydockbar.com/events/
LOCATION:The Jetty\, 201 Wells Cove Road\, Grasonville\, MD\, 21638\, United States
END:VEVENT
BEGIN:VEVENT
DTSTART;TZID=America/New_York:20260503T140000
DTEND;TZID=America/New_York:20260503T180000
DTSTAMP:20260420T203623
CREATED:20260420T165621Z
LAST-MODIFIED:20260420T170209Z
UID:10005276-1777816800-1777831200@jettydockbar.com
SUMMARY:Crash the Limo
DESCRIPTION:
URL:https://jettydockbar.com/events/
LOCATION:The Jetty\, 201 Wells Cove Road\, Grasonville\, MD\, 21638\, United States
END:VEVENT
BEGIN:VEVENT
DTSTART;TZID=America/New_York:20260502T203000
DTEND;TZID=America/New_York:20260503T003000
DTSTAMP:20260420T203623
CREATED:20260420T164538Z
LAST-MODIFIED:20260420T164547Z
UID:10005263-1777753800-1777768200@jettydockbar.com
SUMMARY:New Romance
DESCRIPTION:
URL:https://jettydockbar.com/events/
LOCATION:The Jetty\, 201 Wells Cove Road\, Grasonville\, MD\, 21638\, United States
END:VEVENT
BEGIN:VEVENT
DTSTART;TZID=America/New_York:20260502T150000
DTEND;TZID=America/New_York:20260502T190000
DTSTAMP:20260420T203623
CREATED:20260420T164443Z
LAST-MODIFIED:20260420T164452Z
UID:10005262-1777734000-1777748400@jettydockbar.com
SUMMARY:Thunderball
DESCRIPTION:
URL:https://jettydockbar.com/events/
LOCATION:The Jetty\, 201 Wells Cove Road\, Grasonville\, MD\, 21638\, United States
END:VEVENT
BEGIN:VEVENT
DTSTART;TZID=America/New_York:20260501T203000
DTEND;TZID=America/New_York:20260502T003000
DTSTAMP:20260420T203623
CREATED:20260420T164402Z
LAST-MODIFIED:20260420T164410Z
UID:10005261-1777667400-1777681800@jettydockbar.com
SUMMARY:Weird Science
DESCRIPTION:
URL:https://jettydockbar.com/events/
LOCATION:The Jetty\, 201 Wells Cove Road\, Grasonville\, MD\, 21638\, United States
END:VEVENT
BEGIN:VEVENT
DTSTART;TZID=America/New_York:20260430T190000
DTEND;TZID=America/New_York:20260430T230000
DTSTAMP:20260420T203623
CREATED:20231101T141322Z
LAST-MODIFIED:20251029T162557Z
UID:10004613-1777575600-1777590000@jettydockbar.com
SUMMARY:Music Bingo  & DJ with DJ Juice
DESCRIPTION:
URL:https://jettydockbar.com/events/
LOCATION:The Jetty\, 201 Wells Cove Road\, Grasonville\, MD\, 21638\, United States
END:VEVENT
BEGIN:VEVENT
DTSTART;TZID=America/New_York:20260429T190000
DTEND;TZID=America/New_York:20260429T230000
DTSTAMP:20260420T203623
CREATED:20260112T223504Z
LAST-MODIFIED:20260112T223504Z
UID:10004942-1777489200-1777503600@jettydockbar.com
SUMMARY:Karaoke Night
DESCRIPTION:
URL:https://jettydockbar.com/events/
LOCATION:The Jetty\, 201 Wells Cove Road\, Grasonville\, MD\, 21638\, United States
END:VEVENT
END:VCALENDAR